DSET /data/assim/senya/assim_matlab/indian/vel_dr_ind_5.dat
TITLE monthly vel. Back:seas(Dr-Ekm), Alt-seas,Dr_Ek; +Ek (Ralf & Niiler scaling) ;
* opt. interp. seas backgr., NV>10, 308 of T/P (version 8.6)
UNDEF -9.99e33
XDEF 43 LINEAR 7.50 3.00
YDEF 45 LINEAR -60.00 2.00
ZDEF 1 LINEAR 0 1
TDEF 97 LINEAR oct1992 1mo
VARS 2
u 0 99 zonal_velocity, m/s
v 0 99 merid_velocity, m/s
ENDVARS
